Workbook
Name BuiltIn_Print_Titles: #N/A
Name BuiltIn_Print_Titles___0: #N/A
Name Excel_BuiltIn_Print_Area_1: #REF!
Name Excel_BuiltIn_Print_Area_1: #REF!
Name Excel_BuiltIn_Print_Area_1: #REF!
Name Excel_BuiltIn_Print_Area_10: #REF!
Name Excel_BuiltIn_Print_Area_10: #REF!
Name Excel_BuiltIn_Print_Area_10: #REF!
Name Excel_BuiltIn_Print_Area_12: #REF!
Name Excel_BuiltIn_Print_Area_12: #REF!
Name Excel_BuiltIn_Print_Area_12: #REF!
Name Excel_BuiltIn_Print_Area_15: #REF!
Name Excel_BuiltIn_Print_Area_15: #REF!
Name Excel_BuiltIn_Print_Area_15: #REF!
Name Excel_BuiltIn_Print_Area_16: #REF!
Name Excel_BuiltIn_Print_Area_16: #REF!
Name Excel_BuiltIn_Print_Area_16: #REF!
Name Excel_BuiltIn_Print_Area_17: #REF!
Name Excel_BuiltIn_Print_Area_17: #REF!
Name Excel_BuiltIn_Print_Area_17: #REF!
Name Excel_BuiltIn_Print_Area_18: #REF!
Name Excel_BuiltIn_Print_Area_18: #REF!
Name Excel_BuiltIn_Print_Area_18: #REF!
Name Excel_BuiltIn_Print_Area_19: #REF!
Name Excel_BuiltIn_Print_Area_19: #REF!
Name Excel_BuiltIn_Print_Area_19: #REF!
Name Excel_BuiltIn_Print_Area_2: #REF!
Name Excel_BuiltIn_Print_Area_2: #REF!
Name Excel_BuiltIn_Print_Area_2: #REF!
Name Excel_BuiltIn_Print_Area_20: #REF!
Name Excel_BuiltIn_Print_Area_20: #REF!
Name Excel_BuiltIn_Print_Area_20: #REF!
Name Excel_BuiltIn_Print_Area_21: #REF!
Name Excel_BuiltIn_Print_Area_21: #REF!
Name Excel_BuiltIn_Print_Area_21: #REF!
Name Excel_BuiltIn_Print_Area_22: #REF!
Name Excel_BuiltIn_Print_Area_22: #REF!
Name Excel_BuiltIn_Print_Area_22: #REF!
Name Excel_BuiltIn_Print_Area_23: #REF!
Name Excel_BuiltIn_Print_Area_23: #REF!
Name Excel_BuiltIn_Print_Area_23: #REF!
Name Excel_BuiltIn_Print_Area_3: #REF!
Name Excel_BuiltIn_Print_Area_3: #REF!
Name Excel_BuiltIn_Print_Area_3: #REF!
Name Excel_BuiltIn_Print_Area_30: #REF!
Name Excel_BuiltIn_Print_Area_30: #REF!
Name Excel_BuiltIn_Print_Area_30: #REF!
Name Excel_BuiltIn_Print_Area_31: #REF!
Name Excel_BuiltIn_Print_Area_31: #REF!
Name Excel_BuiltIn_Print_Area_31: #REF!
Name Excel_BuiltIn_Print_Area_32: #REF!
Name Excel_BuiltIn_Print_Area_32: #REF!
Name Excel_BuiltIn_Print_Area_32: #REF!
Name Excel_BuiltIn_Print_Area_34: #REF!
Name Excel_BuiltIn_Print_Area_34: #REF!
Name Excel_BuiltIn_Print_Area_34: #REF!
Name Excel_BuiltIn_Print_Area_38: #REF!
Name Excel_BuiltIn_Print_Area_38: #REF!
Name Excel_BuiltIn_Print_Area_38: #REF!
Name Excel_BuiltIn_Print_Area_4: #REF!

Sheet 071
F1: Приложение 21 к Инструкции по проведению бюджетного мониторинга, утвержденной приказом МФ РК от 30.11.16 г. №629
A3: Отчет о реализации бюджетных программ (подпрограмм)
A4: за 2018 финансовый год
A5: Код и наименование администратора бюджетной программы: 261 КГУ "Управление образования акимата СКО"
A6: Код и наименование бюджетной программы: 261.071 "Целевые текущие трансферты районным (городов областного значения) бюджетам на доплату учителям организаций образования, реализующим учебные программы начального, основного и общего среднего образования по обновленному содержанию образования, и возмещение сумм, выплаченных по данному направлению расходов за счет средств местных бюджетов"
A7: Вид бюджетной программы:
A8: областная
A9: в зависимости от уровня государственного управления
A10: предоставление трансфертов и бюджетных субсидий
A11: в зависимости от содержания
A12: распределяемая
A13: в зависимости от способа реализации
A14: текущая
... A17: Описание (обоснование) бюджетной программы: Расходы на доплату учителям организаций образования , реализующим учебные программы начального, основного и общего среднего образования по обновленному содержанию образования
A18: Расходы по бюджетной программе | B18: Единица измерения | C18: План | D18: Факт | E18: Отклонение (гр.4 – гр. 3) | F18: Процент выполнения показателей (гр. 4 /гр. 3х100) | G18: Причины недостижения или перевыполнения результатов и неосвоения средств бюджетной программы
A19: 1 | B19: 2 | C19: 3 | D19: 4 | E19: 5 | F19: 6 | G19: 7
A20: Целевые текущие трансферты районным (городов областного значения) бюджетам на доплату учителям организаций образования, реализующим учебные программы начального, основного и общего среднего образования по обновленному содержанию образования, и возмещение сумм, выплаченных по данному направлению расходов за счет средств местных бюджетов | B20: тыс.тенге | C20: =C35 -> 1790589 | D20: =D35 -> 1790581.9 | E20: =C20-D20 -> 7.1 | F20: =D20/C20*100 -> 99.999603 | G20: экономия по факту начиления
A21: Итого расходы по бюджетной программе | B21: тысяч тенге | C21: =C20 -> 1790589 | D21: =D20 -> 1790581.9 | E21: =E20 -> 7.1 | F21: =F20 -> 99.999603
A22: Конечный результат бюджетной программы
A23: Доля учителей, реализующих учебные программы по обновленному содержанию образования | B23: % | C23: 67 | D23: 67 | E23: =D23-C23 -> 0 | F23: =D23/C23*100 -> 100
A24: Код и наименование бюджетной подпрограммы: 011 «За счет трансфертов из республиканского бюджета»
A25: Вид бюджетной подпрограммы:
A26: в зависимости от содержания: распределяемая
A27: текущая/развити: текущая
A28: Описание (обоснование) бюджетной подпрограммы: Расходы на доплату учителям организаций образования , реализующим учебные программы начального, основного и общего среднего образования по обновленному содержанию образования
A29: Показатели прямого результата: | B29: Ед. изм. | C29: План | D29: Факт | E29: Отклоне- ние (гр.4 –гр. 3) | F29: Процент выполнения показателей (гр. 4 /гр. 3х100) | G29: Причины недостижения или перевыполнения результатов и неосвоения средств бюджетной программы/подпрограммы
A30: 1 | B30: 2 | C30: 3 | D30: 4 | E30: 5 | F30: 6 | G30: 7
A31: Количество учителей, реализующих учебные программы начального, основного и общего среднего образования по обновленному содержанию образования | B31: педставки | C31: 7825 | D31: 7825 | E31: =D31-C31 -> 0 | F31: =D31/C31*100 -> 100
A32: Расходы по бюджетной подпрограмме | B32: Ед. изм. | C32: План | D32: Факт | E32: Отклоне- ние | F32: Процент выполнения показателей (гр. 4 /гр. 3х100) | G32: Причины недостижения или перевыполнения результатов и неосвоения средств бюджетной подпрограммы
E33: (гр.4 –гр. 3
A34: Расходы на выплату доплаты учителям, реализующим учебные программы по обновленному содержанию образования | B34: тыс.тенге | C34: 1790589 | D34: 1790581.9 | E34: =D34-C34 -> -7.1 | F34: =D34/C34*100 -> 99.999603 | G34: экономия по факту начиления
A35: Итого расходы по бюджетной подпрограмме | B35: Тыс. тенге | C35: =C34 -> 1790589 | D35: =D34 -> 1790581.9 | E35: =E34 -> -7.1 | F35: =F34 -> 99.999603
A38: Руководитель управления образования
A39: акимата Северо-Казахстанской области | E39: ____________________________ | G39: Каримова Г.Р.
F40: (подпись)
C41: м.п.

Sheet 071 (каз)
A1: 21-қосымша
A8: Бюджеттік бағдарламалардың (кіші бағдарламалардың) іске асырылуы туралы есеп
A9: 2018 қаржы жылындағы
A10: 261 "СҚО әкімдігінің білім басқармасы" КММ
A11: 071 "Аудандық (облыстық маңызы бар қалалардың) бюджеттеріне жаңартылған білім беру мазмұны бойынша бастауыш, негізгі және жалпы орта білімнің оқу бағдарламаларын іске асыратын білім беру ұйымдарының мұғалімдеріне қосымша ақы төлеуге және жергілікті бюджеттердің қаражаты есебінен шығыстардың осы бағыт бойынша төленген сомаларын өтеуге берілетін ағымдағы нысаналы трансферттер"
A12: Бюджеттік бағдарламаның түрі:
A13: облыстық
A14: мемлекеттік басқару деңгейіне қарай
A15: мемлекеттiк функцияларды, өкiлеттiктердi жүзеге асыру және олардан туындайтын мемлекеттiк қызметтердi көрсету
A16: мазмұнына қарай
A17: жеке
A18: іске асыру түріне қарай
... A22: Бюджеттік бағдарламаның сипаттамасы (негіздемесі): Жаңартылған білім мазмұнының оқу бағдарламаларын іске асыратын мұғалімдерге арналған шығыстар төлемі
A23: Бюджеттiк бағдарлама бойынша шығыстар | B23: Өлшем бірлігі | C23: Жоспар | D23: Іс жүзiнде | E23: Ауытқуы (4-бағ. - 3-бағ.) | F23: Көрсеткіштердің орындалу пайызы (4-бағ./ 3-бағ. х100) | G23: Нәтижелерге қол жеткізе алмау/оларды асыра орындау және бюджеттiк бағдарлама қаражатының игерілмеу себептері
A24: 1 | B24: 2 | C24: 3 | D24: 4 | E24: 5 | F24: 6 | G24: 7
A25: «Аудандық (облыстық маңызы бар қалалардың) бюджеттеріне жаңартылған білім беру мазмұны бойынша бастауыш, негізгі және жалпы орта білімнің оқу бағдарламаларын іске асыратын білім беру ұйымдарының мұғалімдеріне қосымша ақы төлеуге және жергілікті бюджеттердің қаражаты есебінен шығыстардың осы бағыт бойынша төленген сомаларын өтеуге берілетін ағымдағы нысаналы трансферттер» | B25: мың теңге | C25: ='071'!C20 -> 1790589 | D25: ='071'!D20 -> 1790581.9 | E25: ='071'!E20 -> 7.1 | F25: =D25/C25*100 -> 99.999603
A26: Бюджеттiк бағдарлама бойынша шығыстардың жиыны | B26: мың теңге | C26: =C25 -> 1790589 | D26: =D25 -> 1790581.9 | E26: =E25 -> 7.1 | F26: =F25 -> 99.999603
A27: Бюджеттiк бағдарламаның түпкiлiктi нәтижесі
A28: Жаңартылған білім мазмұны бойынша оқу бағдарламаларын іске асыратын мұғалімдердің үлесі: | B28: % | C28: 67 | D28: 67 | E28: 0 | F28: 100
A29: Бюджеттiк кіші бағдарламаның коды және атауы: 011 «Республикалық бюджеттен берілетін трансферттер есебiнен»
A30: Бюджеттiк кіші бағдарламаның түрі:
A31: трансферттер мен бюджеттiк субсидиялар беру
A32: ағымдағы/даму: таратушы
A33: Бюджеттік кіші бағдарламаның сипаттамасы (негіздемесі): Жаңартылған білім мазмұнының оқу бағдарламаларын іске асыратын мұғалімдерге арналған шығыстар төлемі
A34: Тікелей нәтиже көрсеткіші : | B34: Өлшем бірлігі | C34: Жоспар | D34: Іс жүзiнде | E34: Ауытқуы (4-бағ. - 3-бағ.) | F34: Көрсеткіштердің орындалу пайызы (4-бағ./ 3-бағ. х100) | G34: Нәтижелерге қол жеткізе алмау/оларды асыра орындау және бюджеттiк бағдарлама/кіші бағдарлама қаражатының игерілмеу себептері
A35: 1 | B35: 2 | C35: 3 | D35: 4 | E35: 5 | F35: 6 | G35: 7
A36: Жаңартылған білім мазмұны бойынша бастауыш, негізгі және жалпы орта білім беруде оқу бағдарламаларын іске асыратын мұғалімдер саны | B36: Педагогикалық ставкалар | C36: ='071'!C31 -> 7825 | D36: ='071'!D31 -> 7825 | E36: ='071'!E31 -> 0 | F36: =D36/C36*100 -> 100
A37: Бюджеттiк кіші бағдарлама бойынша шығыстар | B37: Өлшем бірлігі | C37: Жоспар | D37: Іс жүзiнде | E37: Ауытқуы (4-бағ.- 3-бағ.) | F37: Көрсеткіштердің орындалу пайызы (4-бағ./ 3-бағ. х100) | G37: Нәтижелерге қол жеткізе алмау/оларды асыра орындау және бюджеттiк бағдарлама қаражатының игерілмеу себептері
A38: Бюджеттiк кіші бағдарлама бойынша шығыстар | B38: Өлшем бірлігі | C38: Жоспар | D38: Іс жүзiнде | E38: Ауытқуы (4-бағ.- 3-бағ.) | F38: Көрсеткіштердің орындалу пайызы (4-бағ./ 3-бағ. х100) | G38: Нәтижелерге қол жеткізе алмау/оларды асыра орындау және бюджеттiк бағдарлама қаражатының игерілмеу себептері
A39: Жаңартылған білім мазмұнының оқу бағдарламаларын іске асыратын мұғалімдерге арналған шығыстар төлемі | B39: мың теңге | C39: ='071'!C34 -> 1790589 | D39: ='071'!D34 -> 1790581.9 | E39: ='071'!E34 -> -7.1 | F39: =D39/C39*100 -> 99.999603 | G39: бастау фактісі бойынша үнемдеу
A40: Бюджеттік бағдарлама бойынша жалпы шығындар | B40: мың теңге | C40: =SUM(C39:C39) -> 1790589 | D40: =SUM(D39:D39) -> 1790581.9 | E40: =SUM(E39:E39) -> -7.1 | F40: 100
A43: Солтүстік Қазақстан облысы әкімдігінің
A44: білім басқармасының басшысы | E44: ____________________________ | G44: Г.Кәрімова
F45: (қолы)
C46: м.о.
